BEGIN:VCALENDAR
VERSION:2.0
PRODID:-//wp-events-plugin.com//7.2.3.1//EN
TZID:Europe/Amsterdam
X-WR-TIMEZONE:Europe/Amsterdam
BEGIN:VEVENT
UID:1597@worldglaucomaweek.org
DTSTART;TZID=Europe/Amsterdam:20180312T000000
DTEND;TZID=Europe/Amsterdam:20180316T220000
DTSTAMP:20180202T144403Z
URL:https://www.worldglaucomaweek.org/activity/light-up-in-green-for-glauc
 oma-fukui/
SUMMARY:Light-Up in Green for Glaucoma @ Fukui
DESCRIPTION:
CATEGORIES:Awareness
LOCATION:Maruoka Castle\, 1-59 Kasumicho \, Sakai\, Fukui\, 910-0231\, Japa
 n
GEO:36.1526837;136.27272629999993
X-APPLE-STRUCTURED-LOCATION;VALUE=URI;X-ADDRESS=1-59 Kasumicho \, Sakai\, F
 ukui\, 910-0231\, Japan;X-APPLE-RADIUS=100;X-TITLE=Maruoka Castle:geo:36.1
 526837,136.27272629999993
END:VEVENT
BEGIN:VTIMEZONE
TZID:Europe/Amsterdam
X-LIC-LOCATION:Europe/Amsterdam
BEGIN:STANDARD
DTSTART:20171029T020000
TZOFFSETFROM:+0200
TZOFFSETTO:+0100
TZNAME:CET
END:STANDARD
END:VTIMEZONE
END:VCALENDAR