BEGIN:VCALENDAR
VERSION:2.0
PRODID:-//wp-events-plugin.com//7.2.3.1//EN
TZID:Europe/Amsterdam
X-WR-TIMEZONE:Europe/Amsterdam
BEGIN:VEVENT
UID:1617@worldglaucomaweek.org
DTSTART;TZID=Europe/Amsterdam:20180312T180000
DTEND;TZID=Europe/Amsterdam:20180317T180000
DTSTAMP:20180202T170545Z
URL:https://www.worldglaucomaweek.org/activity/light-up-in-green-for-glauc
 oma-4/
SUMMARY:Light-Up in Green for Glaucoma
DESCRIPTION:
CATEGORIES:Awareness
LOCATION:Kagoshima Miyata Eye Clinic\, Nishida 1-5-1\, Kagoshima\, 890-0046
 \, Japan
GEO:31.5862516;130.54526680000004
X-APPLE-STRUCTURED-LOCATION;VALUE=URI;X-ADDRESS=Nishida 1-5-1\, Kagoshima\,
  890-0046\, Japan;X-APPLE-RADIUS=100;X-TITLE=Kagoshima Miyata Eye Clinic:g
 eo:31.5862516,130.54526680000004
END:VEVENT
BEGIN:VTIMEZONE
TZID:Europe/Amsterdam
X-LIC-LOCATION:Europe/Amsterdam
BEGIN:STANDARD
DTSTART:20171029T020000
TZOFFSETFROM:+0200
TZOFFSETTO:+0100
TZNAME:CET
END:STANDARD
END:VTIMEZONE
END:VCALENDAR