BEGIN:VCALENDAR
VERSION:2.0
PRODID:-//wp-events-plugin.com//7.2.3.1//EN
TZID:Europe/Amsterdam
X-WR-TIMEZONE:Europe/Amsterdam
BEGIN:VEVENT
UID:2768@worldglaucomaweek.org
DTSTART;TZID=Europe/Amsterdam;VALUE=DATE:20190308
DTEND;TZID=Europe/Amsterdam;VALUE=DATE:20190318
DTSTAMP:20190309T032410Z
URL:https://www.worldglaucomaweek.org/activity/light-up-in-green-facade-of
 -the-ophthalmology-department-faculty-of-medicine-and-university-hospital-
 uanl/
SUMMARY:Light-up in green. Facade of the Ophthalmology Department\, Faculty
  of Medicine and University Hospital UANL.
DESCRIPTION:The facade of the Ophthalmology Department at the Faculty of Me
 dicine and University Hospital from the Autonomous University of Nuevo Leo
 n (UANL) will be lighted-up in green during the world glaucoma week. Simul
 taneously the Ophthalmology Department will be open to the public to parti
 cipate in the daily and ongoing opportunistic screening programme.
ATTACH;FMTTYPE=image/jpeg:https://www.worldglaucomaweek.org/wp-content/upl
 oads/2019/03/IMG_44792.jpg
CATEGORIES:Awareness
LOCATION:Ophthalmology Department\, Faculty of Medicine and University Hosp
 ital UANL\, Gonzalitoz y Madero\, Monterrey\, Nuevo Leon\, Mexico
GEO:25.688364982889787;-100.35027513545498
X-APPLE-STRUCTURED-LOCATION;VALUE=URI;X-ADDRESS=Gonzalitoz y Madero\, Monte
 rrey\, Nuevo Leon\, Mexico;X-APPLE-RADIUS=100;X-TITLE=Ophthalmology Depart
 ment\, Faculty of Medicine and University Hospital UANL:geo:25.68836498288
 9787,-100.35027513545498
END:VEVENT
BEGIN:VTIMEZONE
TZID:Europe/Amsterdam
X-LIC-LOCATION:Europe/Amsterdam
BEGIN:STANDARD
DTSTART:20181028T020000
TZOFFSETFROM:+0200
TZOFFSETTO:+0100
TZNAME:CET
END:STANDARD
END:VTIMEZONE
END:VCALENDAR