BEGIN:VCALENDAR
VERSION:2.0
PRODID:-//wp-events-plugin.com//7.2.3.1//EN
TZID:Europe/Amsterdam
X-WR-TIMEZONE:Europe/Amsterdam
BEGIN:VEVENT
UID:1536@worldglaucomaweek.org
DTSTART;TZID=Europe/Amsterdam:20180312T170000
DTEND;TZID=Europe/Amsterdam:20180317T220000
DTSTAMP:20180202T143846Z
URL:https://www.worldglaucomaweek.org/activity/light-up-in-green-campaignm
 orioka/
SUMMARY:Light-Up in Green for Glaucoma @Morioka
DESCRIPTION:
CATEGORIES:Awareness
LOCATION:Power pylons\, Tohoku Electric Power\, 1-25\, Konya-cho\, Morioka\
 , Iwate\, 020-0885\, Japan
GEO:39.7022974;141.1556309
X-APPLE-STRUCTURED-LOCATION;VALUE=URI;X-ADDRESS=1-25\, Konya-cho\, Morioka\
 , Iwate\, 020-0885\, Japan;X-APPLE-RADIUS=100;X-TITLE=Power pylons\, Tohok
 u Electric Power:geo:39.7022974,141.1556309
END:VEVENT
BEGIN:VTIMEZONE
TZID:Europe/Amsterdam
X-LIC-LOCATION:Europe/Amsterdam
BEGIN:STANDARD
DTSTART:20171029T020000
TZOFFSETFROM:+0200
TZOFFSETTO:+0100
TZNAME:CET
END:STANDARD
END:VTIMEZONE
END:VCALENDAR