BEGIN:VCALENDAR
VERSION:2.0
PRODID:-//wp-events-plugin.com//7.2.3.1//EN
TZID:Europe/Amsterdam
X-WR-TIMEZONE:Europe/Amsterdam
BEGIN:VEVENT
UID:1553@worldglaucomaweek.org
DTSTART;TZID=Europe/Amsterdam:20180312T170000
DTEND;TZID=Europe/Amsterdam:20180317T210000
DTSTAMP:20180202T143632Z
URL:https://www.worldglaucomaweek.org/activity/light-up-in-green-campaign-
 yamagata/
SUMMARY:Light-Up in Green for glaucom @ yamagata
DESCRIPTION:
CATEGORIES:Awareness
LOCATION:Bunshoukan\, Hatagomachi 3-4-51\, Yamagata\, Yamagata\, 990-0047\,
  Japan
GEO:38.256897;140.3412459
X-APPLE-STRUCTURED-LOCATION;VALUE=URI;X-ADDRESS=Hatagomachi 3-4-51\, Yamaga
 ta\, Yamagata\, 990-0047\, Japan;X-APPLE-RADIUS=100;X-TITLE=Bunshoukan:geo
 :38.256897,140.3412459
END:VEVENT
BEGIN:VTIMEZONE
TZID:Europe/Amsterdam
X-LIC-LOCATION:Europe/Amsterdam
BEGIN:STANDARD
DTSTART:20171029T020000
TZOFFSETFROM:+0200
TZOFFSETTO:+0100
TZNAME:CET
END:STANDARD
END:VTIMEZONE
END:VCALENDAR