BEGIN:VCALENDAR
VERSION:2.0
PRODID:-//wp-events-plugin.com//7.2.3.1//EN
TZID:Europe/Amsterdam
X-WR-TIMEZONE:Europe/Amsterdam
BEGIN:VEVENT
UID:1549@worldglaucomaweek.org
DTSTART;TZID=Europe/Amsterdam:20180312T163000
DTEND;TZID=Europe/Amsterdam:20180317T220000
DTSTAMP:20180202T143023Z
URL:https://www.worldglaucomaweek.org/activity/light-up-in-green-campaign-
 sendai/
SUMMARY:Light-UP in Green for Glaucoma  @ Sendai
DESCRIPTION:
CATEGORIES:Awareness
LOCATION:Ichibancho 4-chome Shopping Street\, Ichiban-cho\, Sendai\, Miyagi
 \, 980-0811\, Japan
GEO:38.2641711;140.87103350000007
X-APPLE-STRUCTURED-LOCATION;VALUE=URI;X-ADDRESS=Ichiban-cho\, Sendai\, Miya
 gi\, 980-0811\, Japan;X-APPLE-RADIUS=100;X-TITLE=Ichibancho 4-chome Shoppi
 ng Street:geo:38.2641711,140.87103350000007
END:VEVENT
BEGIN:VTIMEZONE
TZID:Europe/Amsterdam
X-LIC-LOCATION:Europe/Amsterdam
BEGIN:STANDARD
DTSTART:20171029T020000
TZOFFSETFROM:+0200
TZOFFSETTO:+0100
TZNAME:CET
END:STANDARD
END:VTIMEZONE
END:VCALENDAR