BEGIN:VCALENDAR
VERSION:2.0
PRODID:-//wp-events-plugin.com//7.2.3.1//EN
TZID:Europe/Amsterdam
X-WR-TIMEZONE:Europe/Amsterdam
BEGIN:VEVENT
UID:1551@worldglaucomaweek.org
DTSTART;TZID=Europe/Amsterdam:20180312T100000
DTEND;TZID=Europe/Amsterdam:20180317T230000
DTSTAMP:20180202T142842Z
URL:https://www.worldglaucomaweek.org/activity/light-up-in-green-campaign-
 sendai-3/
SUMMARY:Light-UP in Green for Glaucoma  @ Sendai
DESCRIPTION:
CATEGORIES:Awareness
LOCATION:Oumachi Shopping Street\, ichibancho3-1\, Aobaku Sendai\, Miyagi\,
  980-0811\, Japan
GEO:38.2575385;140.87434740000003
X-APPLE-STRUCTURED-LOCATION;VALUE=URI;X-ADDRESS=ichibancho3-1\, Aobaku Send
 ai\, Miyagi\, 980-0811\, Japan;X-APPLE-RADIUS=100;X-TITLE=Oumachi Shopping
  Street:geo:38.2575385,140.87434740000003
END:VEVENT
BEGIN:VTIMEZONE
TZID:Europe/Amsterdam
X-LIC-LOCATION:Europe/Amsterdam
BEGIN:STANDARD
DTSTART:20171029T020000
TZOFFSETFROM:+0200
TZOFFSETTO:+0100
TZNAME:CET
END:STANDARD
END:VTIMEZONE
END:VCALENDAR