BEGIN:VCALENDAR
VERSION:2.0
PRODID:-//wp-events-plugin.com//7.2.3.1//EN
TZID:Europe/Amsterdam
X-WR-TIMEZONE:Europe/Amsterdam
BEGIN:VEVENT
UID:1556@worldglaucomaweek.org
DTSTART;TZID=Europe/Amsterdam:20180312T170000
DTEND;TZID=Europe/Amsterdam:20180312T220000
DTSTAMP:20180202T142619Z
URL:https://www.worldglaucomaweek.org/activity/light-up-in-green-campaign-
 niigata/
SUMMARY:Light-Up in Green for glaucoma  @ Niigata
DESCRIPTION:
CATEGORIES:Awareness
LOCATION:Niigata Media Ship\, 3-1-1 Bandai Chuo-ku\, Niigata\, 950-0088\, J
 apan
GEO:37.9186119;139.05607220000002
X-APPLE-STRUCTURED-LOCATION;VALUE=URI;X-ADDRESS=3-1-1 Bandai Chuo-ku\, Niig
 ata\, 950-0088\, Japan;X-APPLE-RADIUS=100;X-TITLE=Niigata Media Ship:geo:3
 7.9186119,139.05607220000002
END:VEVENT
BEGIN:VTIMEZONE
TZID:Europe/Amsterdam
X-LIC-LOCATION:Europe/Amsterdam
BEGIN:STANDARD
DTSTART:20171029T020000
TZOFFSETFROM:+0200
TZOFFSETTO:+0100
TZNAME:CET
END:STANDARD
END:VTIMEZONE
END:VCALENDAR