BEGIN:VCALENDAR
VERSION:2.0
PRODID:-//wp-events-plugin.com//7.2.3.1//EN
TZID:Europe/Amsterdam
X-WR-TIMEZONE:Europe/Amsterdam
BEGIN:VEVENT
UID:1538@worldglaucomaweek.org
DTSTART;TZID=Europe/Amsterdam:20180312T170000
DTEND;TZID=Europe/Amsterdam:20180317T220000
DTSTAMP:20180202T143340Z
URL:https://www.worldglaucomaweek.org/activity/light-up-in-green-campaign-
 morioka/
SUMMARY:Light-UP in Green for Glaucoma  @ Morioka
DESCRIPTION:
CATEGORIES:Awareness
LOCATION:Kaiun Bridge\, Kaiun Bridge Street\, Morioka\, Iwate\, 020-0026\, 
 Japan
GEO:39.7024621;141.13987350000002
X-APPLE-STRUCTURED-LOCATION;VALUE=URI;X-ADDRESS=Kaiun Bridge Street\, Morio
 ka\, Iwate\, 020-0026\, Japan;X-APPLE-RADIUS=100;X-TITLE=Kaiun Bridge:geo:
 39.7024621,141.13987350000002
END:VEVENT
BEGIN:VTIMEZONE
TZID:Europe/Amsterdam
X-LIC-LOCATION:Europe/Amsterdam
BEGIN:STANDARD
DTSTART:20171029T020000
TZOFFSETFROM:+0200
TZOFFSETTO:+0100
TZNAME:CET
END:STANDARD
END:VTIMEZONE
END:VCALENDAR