BEGIN:VCALENDAR
VERSION:2.0
PRODID:-//wp-events-plugin.com//7.2.3.1//EN
TZID:Europe/Amsterdam
X-WR-TIMEZONE:Europe/Amsterdam
BEGIN:VEVENT
UID:1545@worldglaucomaweek.org
DTSTART;TZID=Europe/Amsterdam:20180312T170000
DTEND;TZID=Europe/Amsterdam:20180317T220000
DTSTAMP:20180202T143044Z
URL:https://www.worldglaucomaweek.org/activity/light-up-in-green-campaign-
 mizusawa/
SUMMARY:Light-UP in Green for Glaucoma   @ Mizusawa
DESCRIPTION:
CATEGORIES:Awareness
LOCATION:Ari Eye Clinic\, Mizusawa\, Nishimachi 130-1\, Ohsyu\, Iwate\, 023
 -0816\, Japan
GEO:39.1377983;141.13639820000003
X-APPLE-STRUCTURED-LOCATION;VALUE=URI;X-ADDRESS=Mizusawa\, Nishimachi 130-1
 \, Ohsyu\, Iwate\, 023-0816\, Japan;X-APPLE-RADIUS=100;X-TITLE=Ari Eye Cli
 nic:geo:39.1377983,141.13639820000003
END:VEVENT
BEGIN:VTIMEZONE
TZID:Europe/Amsterdam
X-LIC-LOCATION:Europe/Amsterdam
BEGIN:STANDARD
DTSTART:20171029T020000
TZOFFSETFROM:+0200
TZOFFSETTO:+0100
TZNAME:CET
END:STANDARD
END:VTIMEZONE
END:VCALENDAR