BEGIN:VCALENDAR
VERSION:2.0
PRODID:-//wp-events-plugin.com//7.2.3.1//EN
TZID:Europe/Amsterdam
X-WR-TIMEZONE:Europe/Amsterdam
BEGIN:VEVENT
UID:1546@worldglaucomaweek.org
DTSTART;TZID=Europe/Amsterdam:20180312T170000
DTEND;TZID=Europe/Amsterdam:20180317T220000
DTSTAMP:20180202T143259Z
URL:https://www.worldglaucomaweek.org/activity/light-up-in-green-campaign-
 mizusawa-2/
SUMMARY:Light-UP in Green for Glaucoma  @ Mizusawa
DESCRIPTION:
CATEGORIES:Awareness
LOCATION:Mizusawa VLBI Obsevatory\, National Astronomical Obsevatory of Jap
 an\, 2-12\, hoshigaoka-cho\, Mizusawa-ku\, Oshu\, 023-0861\, Iwate\, Japan
GEO:39.1351267;141.13314739999998
X-APPLE-STRUCTURED-LOCATION;VALUE=URI;X-ADDRESS=2-12\, hoshigaoka-cho\, Miz
 usawa-ku\, Oshu\, 023-0861\, Iwate\, Japan;X-APPLE-RADIUS=100;X-TITLE=Mizu
 sawa VLBI Obsevatory\, National Astronomical Obsevatory of Japan:geo:39.13
 51267,141.13314739999998
END:VEVENT
BEGIN:VTIMEZONE
TZID:Europe/Amsterdam
X-LIC-LOCATION:Europe/Amsterdam
BEGIN:STANDARD
DTSTART:20171029T020000
TZOFFSETFROM:+0200
TZOFFSETTO:+0100
TZNAME:CET
END:STANDARD
END:VTIMEZONE
END:VCALENDAR