BEGIN:VCALENDAR
VERSION:2.0
PRODID:-//wp-events-plugin.com//7.2.3.1//EN
TZID:Europe/Amsterdam
X-WR-TIMEZONE:Europe/Amsterdam
BEGIN:VEVENT
UID:1548@worldglaucomaweek.org
DTSTART;TZID=Europe/Amsterdam:20180312T170000
DTEND;TZID=Europe/Amsterdam:20180317T220000
DTSTAMP:20180202T143219Z
URL:https://www.worldglaucomaweek.org/activity/light-up-in-green-campaign-
 hiraizumi/
SUMMARY:Light-UP in Green for Glaucoma @ Hiraizumi
DESCRIPTION:
CATEGORIES:Awareness
LOCATION:Kanjizaiouin Ato (World Heritage)\, Hiraizumi Shirasan\, Hiraizumi
 \, Iwate\, 029-4102\, Japan
GEO:38.9805684;141.08725860000004
X-APPLE-STRUCTURED-LOCATION;VALUE=URI;X-ADDRESS=Hiraizumi Shirasan\, Hiraiz
 umi\, Iwate\, 029-4102\, Japan;X-APPLE-RADIUS=100;X-TITLE=Kanjizaiouin Ato
  (World Heritage):geo:38.9805684,141.08725860000004
END:VEVENT
BEGIN:VTIMEZONE
TZID:Europe/Amsterdam
X-LIC-LOCATION:Europe/Amsterdam
BEGIN:STANDARD
DTSTART:20171029T020000
TZOFFSETFROM:+0200
TZOFFSETTO:+0100
TZNAME:CET
END:STANDARD
END:VTIMEZONE
END:VCALENDAR