BEGIN:VCALENDAR
VERSION:2.0
PRODID:-//wp-events-plugin.com//7.2.3.1//EN
TZID:Europe/Amsterdam
X-WR-TIMEZONE:Europe/Amsterdam
BEGIN:VEVENT
UID:1534@worldglaucomaweek.org
DTSTART;TZID=Europe/Amsterdam:20180312T000000
DTEND;TZID=Europe/Amsterdam:20180313T000000
DTSTAMP:20180202T142742Z
URL:https://www.worldglaucomaweek.org/activity/light-up-in-green-campaign-
 goryokaku-tower/
SUMMARY:Light-UP in Green for Glaucoma  @ Goryokaku Tower
DESCRIPTION:
CATEGORIES:Awareness
LOCATION:Goryokaku Tower\, goryoukaku cho 43-9\, Hakodate\, Hokkaido\, 040-
 0001\, Japan
GEO:41.79485;140.75406280000004
X-APPLE-STRUCTURED-LOCATION;VALUE=URI;X-ADDRESS=goryoukaku cho 43-9\, Hakod
 ate\, Hokkaido\, 040-0001\, Japan;X-APPLE-RADIUS=100;X-TITLE=Goryokaku Tow
 er:geo:41.79485,140.75406280000004
END:VEVENT
BEGIN:VTIMEZONE
TZID:Europe/Amsterdam
X-LIC-LOCATION:Europe/Amsterdam
BEGIN:STANDARD
DTSTART:20171029T020000
TZOFFSETFROM:+0200
TZOFFSETTO:+0100
TZNAME:CET
END:STANDARD
END:VTIMEZONE
END:VCALENDAR