BEGIN:VCALENDAR
VERSION:2.0
PRODID:-//wp-events-plugin.com//7.2.3.1//EN
TZID:Europe/Amsterdam
X-WR-TIMEZONE:Europe/Amsterdam
BEGIN:VEVENT
UID:1555@worldglaucomaweek.org
DTSTART;TZID=Europe/Amsterdam:20180312T053000
DTEND;TZID=Europe/Amsterdam:20180317T080000
DTSTAMP:20180202T142813Z
URL:https://www.worldglaucomaweek.org/activity/light-up-in-green-campaign-
 aidufukushima/
SUMMARY:Light-UP in Green for Glaucoma  @ AiduFukushima
DESCRIPTION:
CATEGORIES:Awareness
LOCATION:Aidu Tsurugajyo\, outemachi 1-1\, Aidu Wakamatsu\, Fukushima\, 965
 -0873\, Japan
GEO:37.4878198;139.9296657
X-APPLE-STRUCTURED-LOCATION;VALUE=URI;X-ADDRESS=outemachi 1-1\, Aidu Wakama
 tsu\, Fukushima\, 965-0873\, Japan;X-APPLE-RADIUS=100;X-TITLE=Aidu Tsuruga
 jyo:geo:37.4878198,139.9296657
END:VEVENT
BEGIN:VTIMEZONE
TZID:Europe/Amsterdam
X-LIC-LOCATION:Europe/Amsterdam
BEGIN:STANDARD
DTSTART:20171029T020000
TZOFFSETFROM:+0200
TZOFFSETTO:+0100
TZNAME:CET
END:STANDARD
END:VTIMEZONE
END:VCALENDAR