BEGIN:VCALENDAR
VERSION:2.0
PRODID:-//wp-events-plugin.com//7.2.3.1//EN
TZID:Europe/Amsterdam
X-WR-TIMEZONE:Europe/Amsterdam
BEGIN:VEVENT
UID:1544@worldglaucomaweek.org
DTSTART;TZID=Europe/Amsterdam:20180312T000000
DTEND;TZID=Europe/Amsterdam:20180317T000000
DTSTAMP:20180202T142713Z
URL:https://www.worldglaucomaweek.org/activity/light-up-in-green-campaign-
 2/
SUMMARY:Light-UP in Green for Glaucoma @ Morioka
DESCRIPTION:
CATEGORIES:Other
LOCATION:Niitsu Asakura Eye Clinic\, konnya machi 2-1\, Morioka\, Iwate\, 0
 20-0885\, Japan
GEO:39.701117;141.156067
X-APPLE-STRUCTURED-LOCATION;VALUE=URI;X-ADDRESS=konnya machi 2-1\, Morioka\
 , Iwate\, 020-0885\, Japan;X-APPLE-RADIUS=100;X-TITLE=Niitsu Asakura Eye C
 linic:geo:39.701117,141.156067
END:VEVENT
BEGIN:VTIMEZONE
TZID:Europe/Amsterdam
X-LIC-LOCATION:Europe/Amsterdam
BEGIN:STANDARD
DTSTART:20171029T020000
TZOFFSETFROM:+0200
TZOFFSETTO:+0100
TZNAME:CET
END:STANDARD
END:VTIMEZONE
END:VCALENDAR