BEGIN:VCALENDAR
VERSION:2.0
PRODID:-//wp-events-plugin.com//7.2.3.1//EN
TZID:Europe/Amsterdam
X-WR-TIMEZONE:Europe/Amsterdam
BEGIN:VEVENT
UID:2524@worldglaucomaweek.org
DTSTART;TZID=Europe/Amsterdam:20190310T173000
DTEND;TZID=Europe/Amsterdam:20190316T000000
DTSTAMP:20190226T062748Z
URL:https://www.worldglaucomaweek.org/activity/light-up-in-green-99/
SUMMARY:Light Up in Green
DESCRIPTION:Light Up in Green
CATEGORIES:Awareness
LOCATION:Tokai Eye Clinic\, 399\,hadokorocho\, Tsu\, Mie\, 514-0009\, Japan
GEO:34.7329825;136.5110879
X-APPLE-STRUCTURED-LOCATION;VALUE=URI;X-ADDRESS=399\,hadokorocho\, Tsu\, Mi
 e\, 514-0009\, Japan;X-APPLE-RADIUS=100;X-TITLE=Tokai Eye Clinic:geo:34.73
 29825,136.5110879
END:VEVENT
BEGIN:VTIMEZONE
TZID:Europe/Amsterdam
X-LIC-LOCATION:Europe/Amsterdam
BEGIN:STANDARD
DTSTART:20181028T020000
TZOFFSETFROM:+0200
TZOFFSETTO:+0100
TZNAME:CET
END:STANDARD
END:VTIMEZONE
END:VCALENDAR