BEGIN:VCALENDAR
VERSION:2.0
PRODID:-//wp-events-plugin.com//7.2.3.1//EN
TZID:Europe/Amsterdam
X-WR-TIMEZONE:Europe/Amsterdam
BEGIN:VEVENT
UID:2512@worldglaucomaweek.org
DTSTART;TZID=Europe/Amsterdam:20190310T180000
DTEND;TZID=Europe/Amsterdam:20190316T220000
DTSTAMP:20190226T055500Z
URL:https://www.worldglaucomaweek.org/activity/light-up-in-green-87/
SUMMARY:Light Up in Green
DESCRIPTION:Light Up in Green
CATEGORIES:Awareness
LOCATION:Yasuma Eye Clinic\, 4-10-50\,nakakuoosu\, Nagoya\, Aichi\, 460-001
 1\, Japan
GEO:35.1603237;136.90405020000003
X-APPLE-STRUCTURED-LOCATION;VALUE=URI;X-ADDRESS=4-10-50\,nakakuoosu\, Nagoy
 a\, Aichi\, 460-0011\, Japan;X-APPLE-RADIUS=100;X-TITLE=Yasuma Eye Clinic:
 geo:35.1603237,136.90405020000003
END:VEVENT
BEGIN:VTIMEZONE
TZID:Europe/Amsterdam
X-LIC-LOCATION:Europe/Amsterdam
BEGIN:STANDARD
DTSTART:20181028T020000
TZOFFSETFROM:+0200
TZOFFSETTO:+0100
TZNAME:CET
END:STANDARD
END:VTIMEZONE
END:VCALENDAR