BEGIN:VCALENDAR
VERSION:2.0
PRODID:-//wp-events-plugin.com//7.2.3.1//EN
TZID:Europe/Amsterdam
X-WR-TIMEZONE:Europe/Amsterdam
BEGIN:VEVENT
UID:2511@worldglaucomaweek.org
DTSTART;TZID=Europe/Amsterdam:20190311T180000
DTEND;TZID=Europe/Amsterdam:20190315T220000
DTSTAMP:20190226T055300Z
URL:https://www.worldglaucomaweek.org/activity/light-up-in-green-86/
SUMMARY:Light Up in Green
DESCRIPTION:Light Up in Green
CATEGORIES:Awareness
LOCATION:Maeda Eye Clinic\, 4-1202\,tenpakukuhirabariminami\, Nagoya\, Aich
 i\, 468-0020\, Japan
GEO:35.1095888;137.00845300000003
X-APPLE-STRUCTURED-LOCATION;VALUE=URI;X-ADDRESS=4-1202\,tenpakukuhirabarimi
 nami\, Nagoya\, Aichi\, 468-0020\, Japan;X-APPLE-RADIUS=100;X-TITLE=Maeda 
 Eye Clinic:geo:35.1095888,137.00845300000003
END:VEVENT
BEGIN:VTIMEZONE
TZID:Europe/Amsterdam
X-LIC-LOCATION:Europe/Amsterdam
BEGIN:STANDARD
DTSTART:20181028T020000
TZOFFSETFROM:+0200
TZOFFSETTO:+0100
TZNAME:CET
END:STANDARD
END:VTIMEZONE
END:VCALENDAR