BEGIN:VCALENDAR
VERSION:2.0
PRODID:-//wp-events-plugin.com//7.2.3.1//EN
TZID:Europe/Amsterdam
X-WR-TIMEZONE:Europe/Amsterdam
BEGIN:VEVENT
UID:2420@worldglaucomaweek.org
DTSTART;TZID=Europe/Amsterdam:20190310T170000
DTEND;TZID=Europe/Amsterdam:20190316T220000
DTSTAMP:20190225T071915Z
URL:https://www.worldglaucomaweek.org/activity/light-up-in-green-7/
SUMMARY:Light Up in Green
DESCRIPTION:Light Up in Green
CATEGORIES:Awareness
LOCATION:Morioka Castle Ruins\, 1-37\,uchimaru\, Morioka\, Iwate\, 020-0023
 \, Japan
GEO:39.6999496;141.15013120000003
X-APPLE-STRUCTURED-LOCATION;VALUE=URI;X-ADDRESS=1-37\,uchimaru\, Morioka\, 
 Iwate\, 020-0023\, Japan;X-APPLE-RADIUS=100;X-TITLE=Morioka Castle Ruins:g
 eo:39.6999496,141.15013120000003
END:VEVENT
BEGIN:VTIMEZONE
TZID:Europe/Amsterdam
X-LIC-LOCATION:Europe/Amsterdam
BEGIN:STANDARD
DTSTART:20181028T020000
TZOFFSETFROM:+0200
TZOFFSETTO:+0100
TZNAME:CET
END:STANDARD
END:VTIMEZONE
END:VCALENDAR