BEGIN:VCALENDAR
VERSION:2.0
PRODID:-//wp-events-plugin.com//7.2.3.1//EN
TZID:Europe/Amsterdam
X-WR-TIMEZONE:Europe/Amsterdam
BEGIN:VEVENT
UID:2480@worldglaucomaweek.org
DTSTART;TZID=Europe/Amsterdam:20190314T180000
DTEND;TZID=Europe/Amsterdam:20190315T220000
DTSTAMP:20190226T021240Z
URL:https://www.worldglaucomaweek.org/activity/light-up-in-green-57/
SUMMARY:Light Up in Green
DESCRIPTION:Light Up in Green
CATEGORIES:Awareness
LOCATION:Kochi Castle\, 1-2-1marunouchi\, Kochi\, Kochi\, 780-0850\, Japan
GEO:33.5612145;133.53185800000006
X-APPLE-STRUCTURED-LOCATION;VALUE=URI;X-ADDRESS=1-2-1marunouchi\, Kochi\, K
 ochi\, 780-0850\, Japan;X-APPLE-RADIUS=100;X-TITLE=Kochi Castle:geo:33.561
 2145,133.53185800000006
END:VEVENT
BEGIN:VTIMEZONE
TZID:Europe/Amsterdam
X-LIC-LOCATION:Europe/Amsterdam
BEGIN:STANDARD
DTSTART:20181028T020000
TZOFFSETFROM:+0200
TZOFFSETTO:+0100
TZNAME:CET
END:STANDARD
END:VTIMEZONE
END:VCALENDAR