BEGIN:VCALENDAR
VERSION:2.0
PRODID:-//wp-events-plugin.com//7.2.3.1//EN
TZID:Europe/Amsterdam
X-WR-TIMEZONE:Europe/Amsterdam
BEGIN:VEVENT
UID:2476@worldglaucomaweek.org
DTSTART;TZID=Europe/Amsterdam:20190315T170000
DTEND;TZID=Europe/Amsterdam:20190317T220000
DTSTAMP:20190226T020321Z
URL:https://www.worldglaucomaweek.org/activity/light-up-in-green-54/
SUMMARY:Light Up in Green
DESCRIPTION:Light Up in Green
CATEGORIES:Awareness
LOCATION:Imabari Public Hall\, 1-4-1bekkucho\, Imabari\, Ehime\, 794-0026\,
  Japan
GEO:34.0720306;132.99215460000005
X-APPLE-STRUCTURED-LOCATION;VALUE=URI;X-ADDRESS=1-4-1bekkucho\, Imabari\, E
 hime\, 794-0026\, Japan;X-APPLE-RADIUS=100;X-TITLE=Imabari Public Hall:geo
 :34.0720306,132.99215460000005
END:VEVENT
BEGIN:VTIMEZONE
TZID:Europe/Amsterdam
X-LIC-LOCATION:Europe/Amsterdam
BEGIN:STANDARD
DTSTART:20181028T020000
TZOFFSETFROM:+0200
TZOFFSETTO:+0100
TZNAME:CET
END:STANDARD
END:VTIMEZONE
END:VCALENDAR