BEGIN:VCALENDAR
VERSION:2.0
PRODID:-//wp-events-plugin.com//7.2.3.1//EN
TZID:Europe/Amsterdam
X-WR-TIMEZONE:Europe/Amsterdam
BEGIN:VEVENT
UID:2475@worldglaucomaweek.org
DTSTART;TZID=Europe/Amsterdam:20190312T180000
DTEND;TZID=Europe/Amsterdam:20190312T220000
DTSTAMP:20190309T030607Z
URL:https://www.worldglaucomaweek.org/activity/light-up-in-green-53/
SUMMARY:Light Up in Green
DESCRIPTION:Light Up in Green
CATEGORIES:Awareness
LOCATION:Ferris Wheel(Kururin)\,Iyotetsu-TaKashimaya\, 5-1-1\,minatomachi\,
  Matsuyama\, Ehime\, 790-0012\, Japan
GEO:33.835908;132.77319120000004
X-APPLE-STRUCTURED-LOCATION;VALUE=URI;X-ADDRESS=5-1-1\,minatomachi\, Matsuy
 ama\, Ehime\, 790-0012\, Japan;X-APPLE-RADIUS=100;X-TITLE=Ferris Wheel(Kur
 urin)\,Iyotetsu-TaKashimaya:geo:33.835908,132.77319120000004
END:VEVENT
BEGIN:VTIMEZONE
TZID:Europe/Amsterdam
X-LIC-LOCATION:Europe/Amsterdam
BEGIN:STANDARD
DTSTART:20181028T020000
TZOFFSETFROM:+0200
TZOFFSETTO:+0100
TZNAME:CET
END:STANDARD
END:VTIMEZONE
END:VCALENDAR