BEGIN:VCALENDAR
VERSION:2.0
PRODID:-//wp-events-plugin.com//7.2.3.1//EN
TZID:Europe/Amsterdam
X-WR-TIMEZONE:Europe/Amsterdam
BEGIN:VEVENT
UID:2472@worldglaucomaweek.org
DTSTART;TZID=Europe/Amsterdam:20190310T000000
DTEND;TZID=Europe/Amsterdam:20190316T220000
DTSTAMP:20190226T015024Z
URL:https://www.worldglaucomaweek.org/activity/light-up-in-green-50/
SUMMARY:Light Up in Green
DESCRIPTION:Light Up in Green
CATEGORIES:Awareness
LOCATION:San-In Chuo TV Tower\, 140-1\,mukoujimacho\, Matsue\, Shimane\, 69
 0-8666\, Japan
GEO:35.46877660000001;133.06367920000002
X-APPLE-STRUCTURED-LOCATION;VALUE=URI;X-ADDRESS=140-1\,mukoujimacho\, Matsu
 e\, Shimane\, 690-8666\, Japan;X-APPLE-RADIUS=100;X-TITLE=San-In Chuo TV T
 ower:geo:35.46877660000001,133.06367920000002
END:VEVENT
BEGIN:VTIMEZONE
TZID:Europe/Amsterdam
X-LIC-LOCATION:Europe/Amsterdam
BEGIN:STANDARD
DTSTART:20181028T020000
TZOFFSETFROM:+0200
TZOFFSETTO:+0100
TZNAME:CET
END:STANDARD
END:VTIMEZONE
END:VCALENDAR