BEGIN:VCALENDAR
VERSION:2.0
PRODID:-//wp-events-plugin.com//7.2.3.1//EN
TZID:Europe/Amsterdam
X-WR-TIMEZONE:Europe/Amsterdam
BEGIN:VEVENT
UID:7724@worldglaucomaweek.org
DTSTART;TZID=Asia/Tokyo:20240310T180000
DTEND;TZID=Asia/Tokyo:20240316T230000
DTSTAMP:20240227T030906Z
URL:https://www.worldglaucomaweek.org/activity/light-up-in-green-2024_japa
 n-94/
SUMMARY:Light-up in Green 2024_Japan
DESCRIPTION:
CATEGORIES:Awareness
LOCATION:HOTEL MONTEREY SENDAI\, 4-1-8 chuou aobaku sendaishi\, Miyagi\, 98
 00021\, Japan
GEO:38.260723;140.878645
X-APPLE-STRUCTURED-LOCATION;VALUE=URI;X-ADDRESS=4-1-8 chuou aobaku sendaish
 i\, Miyagi\, 9800021\, Japan;X-APPLE-RADIUS=100;X-TITLE=HOTEL MONTEREY SEN
 DAI:geo:38.260723,140.878645
END:VEVENT
BEGIN:VTIMEZONE
TZID:Asia/Tokyo
X-LIC-LOCATION:Asia/Tokyo
BEGIN:STANDARD
DTSTART:20230311T180000
TZOFFSETFROM:+0900
TZOFFSETTO:+0900
TZNAME:JST
END:STANDARD
END:VTIMEZONE
END:VCALENDAR