BEGIN:VCALENDAR
VERSION:2.0
PRODID:-//wp-events-plugin.com//7.2.3.1//EN
TZID:Europe/Amsterdam
X-WR-TIMEZONE:Europe/Amsterdam
BEGIN:VEVENT
UID:7585@worldglaucomaweek.org
DTSTART;TZID=Asia/Tokyo:20240310T173000
DTEND;TZID=Asia/Tokyo:20240316T060000
DTSTAMP:20240130T025809Z
URL:https://www.worldglaucomaweek.org/activity/light-up-in-green-2024_japa
 n-21/
SUMMARY:Light-up in Green 2024_japan
DESCRIPTION:
CATEGORIES:Awareness
LOCATION:Shibuya Cerulean Tower\, 4-10-2 youga setagaya\, Tokyo\, 1588539\,
  Japan
GEO:35.626842;139.638833
X-APPLE-STRUCTURED-LOCATION;VALUE=URI;X-ADDRESS=4-10-2 youga setagaya\, Tok
 yo\, 1588539\, Japan;X-APPLE-RADIUS=100;X-TITLE=Shibuya Cerulean Tower:geo
 :35.626842,139.638833
END:VEVENT
BEGIN:VTIMEZONE
TZID:Asia/Tokyo
X-LIC-LOCATION:Asia/Tokyo
BEGIN:STANDARD
DTSTART:20230311T173000
TZOFFSETFROM:+0900
TZOFFSETTO:+0900
TZNAME:JST
END:STANDARD
END:VTIMEZONE
END:VCALENDAR