BEGIN:VCALENDAR
VERSION:2.0
PRODID:-//wp-events-plugin.com//7.2.3.1//EN
TZID:Europe/Amsterdam
X-WR-TIMEZONE:Europe/Amsterdam
BEGIN:VEVENT
UID:2415@worldglaucomaweek.org
DTSTART;TZID=Europe/Amsterdam:20190311T183000
DTEND;TZID=Europe/Amsterdam:20190312T213000
DTSTAMP:20190309T030524Z
URL:https://www.worldglaucomaweek.org/activity/light-up-in-green-2/
SUMMARY:Light Up in Green
DESCRIPTION:Light Up in Green
CATEGORIES:Awareness
LOCATION:Goryokaku Tower\, 43-9\,goryoukakumachi\, Hakodate\, Hokkaido\, 04
 0-0001\, Japan
GEO:41.7947611;140.7540517
X-APPLE-STRUCTURED-LOCATION;VALUE=URI;X-ADDRESS=43-9\,goryoukakumachi\, Hak
 odate\, Hokkaido\, 040-0001\, Japan;X-APPLE-RADIUS=100;X-TITLE=Goryokaku T
 ower:geo:41.7947611,140.7540517
END:VEVENT
BEGIN:VTIMEZONE
TZID:Europe/Amsterdam
X-LIC-LOCATION:Europe/Amsterdam
BEGIN:STANDARD
DTSTART:20181028T020000
TZOFFSETFROM:+0200
TZOFFSETTO:+0100
TZNAME:CET
END:STANDARD
END:VTIMEZONE
END:VCALENDAR