BEGIN:VCALENDAR
VERSION:2.0
PRODID:-//wp-events-plugin.com//7.2.3.1//EN
TZID:Europe/Amsterdam
X-WR-TIMEZONE:Europe/Amsterdam
BEGIN:VEVENT
UID:2437@worldglaucomaweek.org
DTSTART;TZID=Europe/Amsterdam:20190312T170000
DTEND;TZID=Europe/Amsterdam:20190316T210000
DTSTAMP:20190225T084716Z
URL:https://www.worldglaucomaweek.org/activity/light-up-in-green-17/
SUMMARY:Light Up in Green
DESCRIPTION:Light Up in Green
CATEGORIES:Awareness
LOCATION:Bunshokan\, 3-4-51\,hatago\, Yamagata\, Yamagata\, 990-0047\, Japa
 n
GEO:38.2566377;140.3411876
X-APPLE-STRUCTURED-LOCATION;VALUE=URI;X-ADDRESS=3-4-51\,hatago\, Yamagata\,
  Yamagata\, 990-0047\, Japan;X-APPLE-RADIUS=100;X-TITLE=Bunshokan:geo:38.2
 566377,140.3411876
END:VEVENT
BEGIN:VTIMEZONE
TZID:Europe/Amsterdam
X-LIC-LOCATION:Europe/Amsterdam
BEGIN:STANDARD
DTSTART:20181028T020000
TZOFFSETFROM:+0200
TZOFFSETTO:+0100
TZNAME:CET
END:STANDARD
END:VTIMEZONE
END:VCALENDAR