BEGIN:VCALENDAR
VERSION:2.0
PRODID:-//wp-events-plugin.com//7.2.3.1//EN
TZID:Europe/Amsterdam
X-WR-TIMEZONE:Europe/Amsterdam
BEGIN:VEVENT
UID:2436@worldglaucomaweek.org
DTSTART;TZID=Europe/Amsterdam:20190310T163000
DTEND;TZID=Europe/Amsterdam:20190316T220000
DTSTAMP:20190225T084408Z
URL:https://www.worldglaucomaweek.org/activity/light-up-in-green-16/
SUMMARY:Light Up in Green
DESCRIPTION:Light Up in Green
CATEGORIES:Awareness
LOCATION:SELION Tower\, 1-9-1\,tsuchigasakiminatonisi\, Akita\, Akita\, 011
 -0945\, Japan
GEO:39.7540033;140.06364559999997
X-APPLE-STRUCTURED-LOCATION;VALUE=URI;X-ADDRESS=1-9-1\,tsuchigasakiminatoni
 si\, Akita\, Akita\, 011-0945\, Japan;X-APPLE-RADIUS=100;X-TITLE=SELION To
 wer:geo:39.7540033,140.06364559999997
END:VEVENT
BEGIN:VTIMEZONE
TZID:Europe/Amsterdam
X-LIC-LOCATION:Europe/Amsterdam
BEGIN:STANDARD
DTSTART:20181028T020000
TZOFFSETFROM:+0200
TZOFFSETTO:+0100
TZNAME:CET
END:STANDARD
END:VTIMEZONE
END:VCALENDAR