BEGIN:VCALENDAR
VERSION:2.0
PRODID:-//wp-events-plugin.com//7.2.3.1//EN
TZID:Europe/Amsterdam
X-WR-TIMEZONE:Europe/Amsterdam
BEGIN:VEVENT
UID:2968@worldglaucomaweek.org
DTSTART;TZID=Europe/Amsterdam:20190315T173000
DTEND;TZID=Europe/Amsterdam:20190316T220000
DTSTAMP:20190318T033055Z
URL:https://www.worldglaucomaweek.org/activity/light-up-in-green-153/
SUMMARY:Light Up in Green
DESCRIPTION:Light Up in Green
CATEGORIES:Awareness
LOCATION:Nisimura Eye Clinic\, 4028-2\,shimoedo\, Kani\, Gifu\, 509-0203\, 
 Japan
GEO:35.4241567;137.052231
X-APPLE-STRUCTURED-LOCATION;VALUE=URI;X-ADDRESS=4028-2\,shimoedo\, Kani\, G
 ifu\, 509-0203\, Japan;X-APPLE-RADIUS=100;X-TITLE=Nisimura Eye Clinic:geo:
 35.4241567,137.052231
END:VEVENT
BEGIN:VTIMEZONE
TZID:Europe/Amsterdam
X-LIC-LOCATION:Europe/Amsterdam
BEGIN:STANDARD
DTSTART:20181028T020000
TZOFFSETFROM:+0200
TZOFFSETTO:+0100
TZNAME:CET
END:STANDARD
END:VTIMEZONE
END:VCALENDAR