BEGIN:VCALENDAR
VERSION:2.0
PRODID:-//wp-events-plugin.com//7.2.3.1//EN
TZID:Europe/Amsterdam
X-WR-TIMEZONE:Europe/Amsterdam
BEGIN:VEVENT
UID:2941@worldglaucomaweek.org
DTSTART;TZID=Europe/Amsterdam:20190315T180000
DTEND;TZID=Europe/Amsterdam:20190316T230000
DTSTAMP:20190314T211147Z
URL:https://www.worldglaucomaweek.org/activity/light-up-in-green-152/
SUMMARY:Light Up in Green
DESCRIPTION:
CATEGORIES:Awareness
LOCATION:Liberty Square\, Praça da Liberdade s/n\, Belo Horizonte\, Minas 
 Gerais\, 30140-010\, Funcionários\, Brazil
GEO:-19.9328452;-43.9385772
X-APPLE-STRUCTURED-LOCATION;VALUE=URI;X-ADDRESS=Praça da Liberdade s/n\, B
 elo Horizonte\, Minas Gerais\, 30140-010\, Funcionários\, Brazil;X-APPLE-
 RADIUS=100;X-TITLE=Liberty Square:geo:-19.9328452,-43.9385772
END:VEVENT
BEGIN:VTIMEZONE
TZID:Europe/Amsterdam
X-LIC-LOCATION:Europe/Amsterdam
BEGIN:STANDARD
DTSTART:20181028T020000
TZOFFSETFROM:+0200
TZOFFSETTO:+0100
TZNAME:CET
END:STANDARD
END:VTIMEZONE
END:VCALENDAR