BEGIN:VCALENDAR
VERSION:2.0
PRODID:-//wp-events-plugin.com//7.2.3.1//EN
TZID:Europe/Amsterdam
X-WR-TIMEZONE:Europe/Amsterdam
BEGIN:VEVENT
UID:2741@worldglaucomaweek.org
DTSTART;TZID=Europe/Amsterdam;VALUE=DATE:20190310
DTEND;TZID=Europe/Amsterdam;VALUE=DATE:20190317
DTSTAMP:20190308T030301Z
URL:https://www.worldglaucomaweek.org/activity/light-up-in-green-142/
SUMMARY:Light Up in Green
DESCRIPTION:Light Up in Green
CATEGORIES:Awareness
LOCATION:Tohoku University　Hospital\, 1-1\,aobakuseryoumachi\, Sendai\, M
 iyagi\, 980-8574\, Japan
GEO:38.2720005;140.86126190000004
X-APPLE-STRUCTURED-LOCATION;VALUE=URI;X-ADDRESS=1-1\,aobakuseryoumachi\, Se
 ndai\, Miyagi\, 980-8574\, Japan;X-APPLE-RADIUS=100;X-TITLE=Tohoku Univers
 ity　Hospital:geo:38.2720005,140.86126190000004
END:VEVENT
BEGIN:VTIMEZONE
TZID:Europe/Amsterdam
X-LIC-LOCATION:Europe/Amsterdam
BEGIN:STANDARD
DTSTART:20181028T020000
TZOFFSETFROM:+0200
TZOFFSETTO:+0100
TZNAME:CET
END:STANDARD
END:VTIMEZONE
END:VCALENDAR