BEGIN:VCALENDAR
VERSION:2.0
PRODID:-//wp-events-plugin.com//7.2.3.1//EN
TZID:Europe/Amsterdam
X-WR-TIMEZONE:Europe/Amsterdam
BEGIN:VEVENT
UID:2671@worldglaucomaweek.org
DTSTART;TZID=Europe/Amsterdam:20190311T163000
DTEND;TZID=Europe/Amsterdam:20190315T200000
DTSTAMP:20190306T032920Z
URL:https://www.worldglaucomaweek.org/activity/light-up-in-green-140/
SUMMARY:Light Up in Green
DESCRIPTION:Light Up in Green
CATEGORIES:Awareness
LOCATION:Yamoto EyeClinic\, 343\,yamoto\, Higashimatsushima\, Miyagi\, 981-
 0503\, Japan
GEO:38.4208043;141.21063909999998
X-APPLE-STRUCTURED-LOCATION;VALUE=URI;X-ADDRESS=343\,yamoto\, Higashimatsus
 hima\, Miyagi\, 981-0503\, Japan;X-APPLE-RADIUS=100;X-TITLE=Yamoto EyeClin
 ic:geo:38.4208043,141.21063909999998
END:VEVENT
BEGIN:VTIMEZONE
TZID:Europe/Amsterdam
X-LIC-LOCATION:Europe/Amsterdam
BEGIN:STANDARD
DTSTART:20181028T020000
TZOFFSETFROM:+0200
TZOFFSETTO:+0100
TZNAME:CET
END:STANDARD
END:VTIMEZONE
END:VCALENDAR