BEGIN:VCALENDAR
VERSION:2.0
PRODID:-//wp-events-plugin.com//7.2.3.1//EN
TZID:Europe/Amsterdam
X-WR-TIMEZONE:Europe/Amsterdam
BEGIN:VEVENT
UID:2667@worldglaucomaweek.org
DTSTART;TZID=Europe/Amsterdam:20190311T093000
DTEND;TZID=Europe/Amsterdam:20190316T053000
DTSTAMP:20190306T032056Z
URL:https://www.worldglaucomaweek.org/activity/light-up-in-green-136/
SUMMARY:Light Up in Green
DESCRIPTION:Light Up in Green
CATEGORIES:Awareness
LOCATION:Yasukura Eye Clinic\, 1-1-4\,tsukumodai\, Suita\, Osaka\, 565-0862
 \, Japan
GEO:34.8014112;135.50828550000006
X-APPLE-STRUCTURED-LOCATION;VALUE=URI;X-ADDRESS=1-1-4\,tsukumodai\, Suita\,
  Osaka\, 565-0862\, Japan;X-APPLE-RADIUS=100;X-TITLE=Yasukura Eye Clinic:g
 eo:34.8014112,135.50828550000006
END:VEVENT
BEGIN:VTIMEZONE
TZID:Europe/Amsterdam
X-LIC-LOCATION:Europe/Amsterdam
BEGIN:STANDARD
DTSTART:20181028T020000
TZOFFSETFROM:+0200
TZOFFSETTO:+0100
TZNAME:CET
END:STANDARD
END:VTIMEZONE
END:VCALENDAR