BEGIN:VCALENDAR
VERSION:2.0
PRODID:-//wp-events-plugin.com//7.2.3.1//EN
TZID:Europe/Amsterdam
X-WR-TIMEZONE:Europe/Amsterdam
BEGIN:VEVENT
UID:2665@worldglaucomaweek.org
DTSTART;TZID=Europe/Amsterdam:20190311T160000
DTEND;TZID=Europe/Amsterdam:20190312T080000
DTSTAMP:20190306T031649Z
URL:https://www.worldglaucomaweek.org/activity/light-up-in-green-134/
SUMMARY:Light Up in Green
DESCRIPTION:Light Up in Green
CATEGORIES:Awareness
LOCATION:Obase Eye Clinic\, 1-31\,toyotsu\, Suita\, Osaka\, 564-0051\, Japa
 n
GEO:34.76457;135.50894500000004
X-APPLE-STRUCTURED-LOCATION;VALUE=URI;X-ADDRESS=1-31\,toyotsu\, Suita\, Osa
 ka\, 564-0051\, Japan;X-APPLE-RADIUS=100;X-TITLE=Obase Eye Clinic:geo:34.7
 6457,135.50894500000004
END:VEVENT
BEGIN:VTIMEZONE
TZID:Europe/Amsterdam
X-LIC-LOCATION:Europe/Amsterdam
BEGIN:STANDARD
DTSTART:20181028T020000
TZOFFSETFROM:+0200
TZOFFSETTO:+0100
TZNAME:CET
END:STANDARD
END:VTIMEZONE
END:VCALENDAR