BEGIN:VCALENDAR
VERSION:2.0
PRODID:-//wp-events-plugin.com//7.2.3.1//EN
TZID:Europe/Amsterdam
X-WR-TIMEZONE:Europe/Amsterdam
BEGIN:VEVENT
UID:2550@worldglaucomaweek.org
DTSTART;TZID=Europe/Amsterdam:20190311T083000
DTEND;TZID=Europe/Amsterdam:20190316T173000
DTSTAMP:20190226T073846Z
URL:https://www.worldglaucomaweek.org/activity/light-up-in-green-125/
SUMMARY:Light Up in Green
DESCRIPTION:Light Up in Green
CATEGORIES:Awareness
LOCATION:Ðemizu Eye Clinic\, 6006-1\,ooazatsunehisa\, Miyazaki\, Miyazaki\
 , 880-0916\, Japan
GEO:31.8912351;131.40870859999995
X-APPLE-STRUCTURED-LOCATION;VALUE=URI;X-ADDRESS=6006-1\,ooazatsunehisa\, Mi
 yazaki\, Miyazaki\, 880-0916\, Japan;X-APPLE-RADIUS=100;X-TITLE=Ðemizu Ey
 e Clinic:geo:31.8912351,131.40870859999995
END:VEVENT
BEGIN:VTIMEZONE
TZID:Europe/Amsterdam
X-LIC-LOCATION:Europe/Amsterdam
BEGIN:STANDARD
DTSTART:20181028T020000
TZOFFSETFROM:+0200
TZOFFSETTO:+0100
TZNAME:CET
END:STANDARD
END:VTIMEZONE
END:VCALENDAR