BEGIN:VCALENDAR
VERSION:2.0
PRODID:-//wp-events-plugin.com//7.2.3.1//EN
TZID:Europe/Amsterdam
X-WR-TIMEZONE:Europe/Amsterdam
BEGIN:VEVENT
UID:2539@worldglaucomaweek.org
DTSTART;TZID=Europe/Amsterdam:20190310T183000
DTEND;TZID=Europe/Amsterdam:20190316T050000
DTSTAMP:20190309T030229Z
URL:https://www.worldglaucomaweek.org/activity/light-up-in-green-114/
SUMMARY:Light Up in Green
DESCRIPTION:Light Up in Green
CATEGORIES:Awareness
LOCATION:Yamamoto Eye Clinic\, 645-3\,oomachi\, Saijyou\, Ehime\, 793-0030\
 , Japan
GEO:33.919333;133.18806900000004
X-APPLE-STRUCTURED-LOCATION;VALUE=URI;X-ADDRESS=645-3\,oomachi\, Saijyou\, 
 Ehime\, 793-0030\, Japan;X-APPLE-RADIUS=100;X-TITLE=Yamamoto Eye Clinic:ge
 o:33.919333,133.18806900000004
END:VEVENT
BEGIN:VTIMEZONE
TZID:Europe/Amsterdam
X-LIC-LOCATION:Europe/Amsterdam
BEGIN:STANDARD
DTSTART:20181028T020000
TZOFFSETFROM:+0200
TZOFFSETTO:+0100
TZNAME:CET
END:STANDARD
END:VTIMEZONE
END:VCALENDAR