BEGIN:VCALENDAR
VERSION:2.0
PRODID:-//wp-events-plugin.com//7.2.3.1//EN
TZID:Europe/Amsterdam
X-WR-TIMEZONE:Europe/Amsterdam
BEGIN:VEVENT
UID:2533@worldglaucomaweek.org
DTSTART;TZID=Europe/Amsterdam:20190308T170000
DTEND;TZID=Europe/Amsterdam:20190317T220000
DTSTAMP:20190309T030324Z
URL:https://www.worldglaucomaweek.org/activity/light-up-in-green-108/
SUMMARY:Light Up in Green
DESCRIPTION:Light Up in Green
CATEGORIES:Awareness
LOCATION:Kitabatake Eye Clinic\, 38-5\,kitakukoyama\, Okayama\, Okayama\, 7
 01-1352\, Japan
GEO:34.693158;133.81356189999997
X-APPLE-STRUCTURED-LOCATION;VALUE=URI;X-ADDRESS=38-5\,kitakukoyama\, Okayam
 a\, Okayama\, 701-1352\, Japan;X-APPLE-RADIUS=100;X-TITLE=Kitabatake Eye C
 linic:geo:34.693158,133.81356189999997
END:VEVENT
BEGIN:VTIMEZONE
TZID:Europe/Amsterdam
X-LIC-LOCATION:Europe/Amsterdam
BEGIN:STANDARD
DTSTART:20181028T020000
TZOFFSETFROM:+0200
TZOFFSETTO:+0100
TZNAME:CET
END:STANDARD
END:VTIMEZONE
END:VCALENDAR