BEGIN:VCALENDAR
VERSION:2.0
PRODID:-//wp-events-plugin.com//7.2.3.1//EN
TZID:Europe/Amsterdam
X-WR-TIMEZONE:Europe/Amsterdam
BEGIN:VEVENT
UID:2532@worldglaucomaweek.org
DTSTART;TZID=Europe/Amsterdam:20190311T170000
DTEND;TZID=Europe/Amsterdam:20190315T210000
DTSTAMP:20190226T065451Z
URL:https://www.worldglaucomaweek.org/activity/light-up-in-green-107/
SUMMARY:Light Up in Green
DESCRIPTION:Light Up in Green
CATEGORIES:Awareness
LOCATION:Hirakata Yamagishi Eye Clinic\, 5-23\,okahigashicho\, Hirakata\, O
 saka\, 573-0032\, Japan
GEO:34.8168316;135.65084990000002
X-APPLE-STRUCTURED-LOCATION;VALUE=URI;X-ADDRESS=5-23\,okahigashicho\, Hirak
 ata\, Osaka\, 573-0032\, Japan;X-APPLE-RADIUS=100;X-TITLE=Hirakata Yamagis
 hi Eye Clinic:geo:34.8168316,135.65084990000002
END:VEVENT
BEGIN:VTIMEZONE
TZID:Europe/Amsterdam
X-LIC-LOCATION:Europe/Amsterdam
BEGIN:STANDARD
DTSTART:20181028T020000
TZOFFSETFROM:+0200
TZOFFSETTO:+0100
TZNAME:CET
END:STANDARD
END:VTIMEZONE
END:VCALENDAR