BEGIN:VCALENDAR
VERSION:2.0
PRODID:-//wp-events-plugin.com//7.2.3.1//EN
TZID:Europe/Amsterdam
X-WR-TIMEZONE:Europe/Amsterdam
BEGIN:VEVENT
UID:2526@worldglaucomaweek.org
DTSTART;TZID=Europe/Amsterdam:20190310T160000
DTEND;TZID=Europe/Amsterdam:20190316T050000
DTSTAMP:20190226T063404Z
URL:https://www.worldglaucomaweek.org/activity/light-up-in-green-101/
SUMMARY:Light Up in Green
DESCRIPTION:Light Up in Green
CATEGORIES:Awareness
LOCATION:Kozaki Eye Clinic\, 1-51-10\,abanokuhannancho\, Osaka\, Osaka\, 54
 5-0021\, Japan
GEO:34.6291577;135.514589
X-APPLE-STRUCTURED-LOCATION;VALUE=URI;X-ADDRESS=1-51-10\,abanokuhannancho\,
  Osaka\, Osaka\, 545-0021\, Japan;X-APPLE-RADIUS=100;X-TITLE=Kozaki Eye Cl
 inic:geo:34.6291577,135.514589
END:VEVENT
BEGIN:VTIMEZONE
TZID:Europe/Amsterdam
X-LIC-LOCATION:Europe/Amsterdam
BEGIN:STANDARD
DTSTART:20181028T020000
TZOFFSETFROM:+0200
TZOFFSETTO:+0100
TZNAME:CET
END:STANDARD
END:VTIMEZONE
END:VCALENDAR