BEGIN:VCALENDAR
VERSION:2.0
PRODID:-//wp-events-plugin.com//7.2.3.1//EN
TZID:Europe/Amsterdam
X-WR-TIMEZONE:Europe/Amsterdam
BEGIN:VEVENT
UID:2839@worldglaucomaweek.org
DTSTART;TZID=Europe/Amsterdam;VALUE=DATE:20190310
DTEND;TZID=Europe/Amsterdam;VALUE=DATE:20190317
DTSTAMP:20190310T153251Z
URL:https://www.worldglaucomaweek.org/activity/lenar/
SUMMARY:Lenar
DESCRIPTION:
CATEGORIES:Other
LOCATION:Samara Regional Clinical Ophthalmologic Hospital named after TI Er
 oshevsky\, Novo Sadovaya\, Samara\, Russia\, 443068\, Samara\, Russia
GEO:53.2172407;50.150096899999994
X-APPLE-STRUCTURED-LOCATION;VALUE=URI;X-ADDRESS=Novo Sadovaya\, Samara\, Ru
 ssia\, 443068\, Samara\, Russia;X-APPLE-RADIUS=100;X-TITLE=Samara Regional
  Clinical Ophthalmologic Hospital named after TI Eroshevsky:geo:53.2172407
 ,50.150096899999994
END:VEVENT
BEGIN:VTIMEZONE
TZID:Europe/Amsterdam
X-LIC-LOCATION:Europe/Amsterdam
BEGIN:STANDARD
DTSTART:20181028T020000
TZOFFSETFROM:+0200
TZOFFSETTO:+0100
TZNAME:CET
END:STANDARD
END:VTIMEZONE
END:VCALENDAR