BEGIN:VCALENDAR
VERSION:2.0
PRODID:-//wp-events-plugin.com//7.2.3.1//EN
TZID:Europe/Amsterdam
X-WR-TIMEZONE:Europe/Amsterdam
BEGIN:VEVENT
UID:1584@worldglaucomaweek.org
DTSTART;TZID=Europe/Amsterdam:20180314T150000
DTEND;TZID=Europe/Amsterdam:20180314T150000
DTSTAMP:20180218T125426Z
URL:https://www.worldglaucomaweek.org/activity/lecture-for-glaucoma-patien
 ts/
SUMMARY:Understanding Glaucoma: Lecture for Glaucoma Patients
DESCRIPTION:Understanding Glaucoma: Lecture for Glaucoma Patients
CATEGORIES:Public educational
LOCATION:Kangbuk samsung medical center\, kangbuk samsung\, Seoul\, South K
 orea
GEO:37.56859;126.96785899999998
X-APPLE-STRUCTURED-LOCATION;VALUE=URI;X-ADDRESS=kangbuk samsung\, Seoul\, S
 outh Korea;X-APPLE-RADIUS=100;X-TITLE=Kangbuk samsung medical center:geo:3
 7.56859,126.96785899999998
END:VEVENT
BEGIN:VTIMEZONE
TZID:Europe/Amsterdam
X-LIC-LOCATION:Europe/Amsterdam
BEGIN:STANDARD
DTSTART:20171029T020000
TZOFFSETFROM:+0200
TZOFFSETTO:+0100
TZNAME:CET
END:STANDARD
END:VTIMEZONE
END:VCALENDAR