BEGIN:VCALENDAR
VERSION:2.0
PRODID:-//wp-events-plugin.com//7.2.3.1//EN
TZID:Europe/Amsterdam
X-WR-TIMEZONE:Europe/Amsterdam
BEGIN:VEVENT
UID:1591@worldglaucomaweek.org
DTSTART;TZID=Europe/Amsterdam:20180315T150000
DTEND;TZID=Europe/Amsterdam:20180315T150000
DTSTAMP:20180218T125831Z
URL:https://www.worldglaucomaweek.org/activity/lecture-for-glaucoma-patien
 ts-8/
SUMMARY:Understanding Glaucoma: Lecture for Glaucoma Patients
DESCRIPTION:Understanding Glaucoma: Lecture for Glaucoma Patients
CATEGORIES:Public educational
LOCATION:Hangil Eye Hospital\, 35\, Bupyeong-daero\, Bupyeong-gu\, Incheon\
 , Incheon\, South Korea
GEO:37.5151203;126.72405149999997
X-APPLE-STRUCTURED-LOCATION;VALUE=URI;X-ADDRESS=35\, Bupyeong-daero\, Bupye
 ong-gu\, Incheon\, Incheon\, South Korea;X-APPLE-RADIUS=100;X-TITLE=Hangil
  Eye Hospital:geo:37.5151203,126.72405149999997
END:VEVENT
BEGIN:VTIMEZONE
TZID:Europe/Amsterdam
X-LIC-LOCATION:Europe/Amsterdam
BEGIN:STANDARD
DTSTART:20171029T020000
TZOFFSETFROM:+0200
TZOFFSETTO:+0100
TZNAME:CET
END:STANDARD
END:VTIMEZONE
END:VCALENDAR