BEGIN:VCALENDAR
VERSION:2.0
PRODID:-//wp-events-plugin.com//7.2.3.1//EN
TZID:Europe/Amsterdam
X-WR-TIMEZONE:Europe/Amsterdam
BEGIN:VEVENT
UID:2413@worldglaucomaweek.org
DTSTART;TZID=Europe/Amsterdam:20190311T130000
DTEND;TZID=Europe/Amsterdam:20190311T140000
DTSTAMP:20190304T090346Z
URL:https://www.worldglaucomaweek.org/activity/lecture-for-glaucoma-patien
 ts-67/
SUMMARY:Lecture for Glaucoma Patients
DESCRIPTION:
CATEGORIES:Public educational
LOCATION:Kangbuk Samsung Hospital\, 29\, Saemunan-ro\, Jongno-gu\, Seoul\, 
 South Korea
GEO:37.5683585;126.96748460000003
X-APPLE-STRUCTURED-LOCATION;VALUE=URI;X-ADDRESS=29\, Saemunan-ro\, Jongno-g
 u\, Seoul\, South Korea;X-APPLE-RADIUS=100;X-TITLE=Kangbuk Samsung Hospita
 l:geo:37.5683585,126.96748460000003
END:VEVENT
BEGIN:VTIMEZONE
TZID:Europe/Amsterdam
X-LIC-LOCATION:Europe/Amsterdam
BEGIN:STANDARD
DTSTART:20181028T020000
TZOFFSETFROM:+0200
TZOFFSETTO:+0100
TZNAME:CET
END:STANDARD
END:VTIMEZONE
END:VCALENDAR