BEGIN:VCALENDAR
VERSION:2.0
PRODID:-//wp-events-plugin.com//7.2.3.1//EN
TZID:Europe/Amsterdam
X-WR-TIMEZONE:Europe/Amsterdam
BEGIN:VEVENT
UID:2409@worldglaucomaweek.org
DTSTART;TZID=Europe/Amsterdam:20190312T123000
DTEND;TZID=Europe/Amsterdam:20190312T143000
DTSTAMP:20190225T023422Z
URL:https://www.worldglaucomaweek.org/activity/lecture-for-glaucoma-patien
 ts-63/
SUMMARY:Lecture for Glaucoma Patients
DESCRIPTION:
CATEGORIES:Public educational
LOCATION:J eye center\, Suyeonglo 671\, Suyeong-gu \, Busan\, South Korea
GEO:35.1657693;129.1144637
X-APPLE-STRUCTURED-LOCATION;VALUE=URI;X-ADDRESS=Suyeonglo 671\, Suyeong-gu 
 \, Busan\, South Korea;X-APPLE-RADIUS=100;X-TITLE=J eye center:geo:35.1657
 693,129.1144637
END:VEVENT
BEGIN:VTIMEZONE
TZID:Europe/Amsterdam
X-LIC-LOCATION:Europe/Amsterdam
BEGIN:STANDARD
DTSTART:20181028T020000
TZOFFSETFROM:+0200
TZOFFSETTO:+0100
TZNAME:CET
END:STANDARD
END:VTIMEZONE
END:VCALENDAR