BEGIN:VCALENDAR
VERSION:2.0
PRODID:-//wp-events-plugin.com//7.2.3.1//EN
TZID:Europe/Amsterdam
X-WR-TIMEZONE:Europe/Amsterdam
BEGIN:VEVENT
UID:2408@worldglaucomaweek.org
DTSTART;TZID=Europe/Amsterdam:20190314T123000
DTEND;TZID=Europe/Amsterdam:20190314T143000
DTSTAMP:20190225T023721Z
URL:https://www.worldglaucomaweek.org/activity/lecture-for-glaucoma-patien
 ts-62/
SUMMARY:Lecture for Glaucoma Patients
DESCRIPTION:
CATEGORIES:Public educational
LOCATION:Hallym University Dongtan Sacred Heart Hospital\,  7\, Keunjaebong
 -gil\, Hwaseong-si\, Gyeonggi-do\, South Korea
GEO:37.2166637;127.0801209
X-APPLE-STRUCTURED-LOCATION;VALUE=URI;X-ADDRESS= 7\, Keunjaebong-gil\, Hwas
 eong-si\, Gyeonggi-do\, South Korea;X-APPLE-RADIUS=100;X-TITLE=Hallym Univ
 ersity Dongtan Sacred Heart Hospital:geo:37.2166637,127.0801209
END:VEVENT
BEGIN:VTIMEZONE
TZID:Europe/Amsterdam
X-LIC-LOCATION:Europe/Amsterdam
BEGIN:STANDARD
DTSTART:20181028T020000
TZOFFSETFROM:+0200
TZOFFSETTO:+0100
TZNAME:CET
END:STANDARD
END:VTIMEZONE
END:VCALENDAR