BEGIN:VCALENDAR
VERSION:2.0
PRODID:-//wp-events-plugin.com//7.2.3.1//EN
TZID:Europe/Amsterdam
X-WR-TIMEZONE:Europe/Amsterdam
BEGIN:VEVENT
UID:2407@worldglaucomaweek.org
DTSTART;TZID=Europe/Amsterdam:20190321T120000
DTEND;TZID=Europe/Amsterdam:20190321T140000
DTSTAMP:20190225T024300Z
URL:https://www.worldglaucomaweek.org/activity/lecture-for-glaucoma-patien
 ts-61/
SUMMARY:Lecture for Glaucoma Patients
DESCRIPTION:
CATEGORIES:Public educational
LOCATION:CHA Bundang Medical Center\, 59\, Yatap-ro\, Bundang-gu\, Seongnam
 \, Gyeonggi-do\, South Korea
GEO:37.4102789;127.12545969999996
X-APPLE-STRUCTURED-LOCATION;VALUE=URI;X-ADDRESS=59\, Yatap-ro\, Bundang-gu\
 , Seongnam\, Gyeonggi-do\, South Korea;X-APPLE-RADIUS=100;X-TITLE=CHA Bund
 ang Medical Center:geo:37.4102789,127.12545969999996
END:VEVENT
BEGIN:VTIMEZONE
TZID:Europe/Amsterdam
X-LIC-LOCATION:Europe/Amsterdam
BEGIN:STANDARD
DTSTART:20181028T020000
TZOFFSETFROM:+0200
TZOFFSETTO:+0100
TZNAME:CET
END:STANDARD
END:VTIMEZONE
END:VCALENDAR