BEGIN:VCALENDAR
VERSION:2.0
PRODID:-//wp-events-plugin.com//7.2.3.1//EN
TZID:Europe/Amsterdam
X-WR-TIMEZONE:Europe/Amsterdam
BEGIN:VEVENT
UID:2406@worldglaucomaweek.org
DTSTART;TZID=Europe/Amsterdam:20190312T140000
DTEND;TZID=Europe/Amsterdam:20190312T160000
DTSTAMP:20190225T023432Z
URL:https://www.worldglaucomaweek.org/activity/lecture-for-glaucoma-patien
 ts-60/
SUMMARY:Lecture for Glaucoma Patients
DESCRIPTION:
CATEGORIES:Public educational
LOCATION:Kim's Eye Hospital\, 136\, Yeongshin-ro\, Yeongdeungpo-gu\, Seoul\
 , South Korea
GEO:37.5263715;126.89622830000008
X-APPLE-STRUCTURED-LOCATION;VALUE=URI;X-ADDRESS=136\, Yeongshin-ro\, Yeongd
 eungpo-gu\, Seoul\, South Korea;X-APPLE-RADIUS=100;X-TITLE=Kim's Eye Hospi
 tal:geo:37.5263715,126.89622830000008
END:VEVENT
BEGIN:VTIMEZONE
TZID:Europe/Amsterdam
X-LIC-LOCATION:Europe/Amsterdam
BEGIN:STANDARD
DTSTART:20181028T020000
TZOFFSETFROM:+0200
TZOFFSETTO:+0100
TZNAME:CET
END:STANDARD
END:VTIMEZONE
END:VCALENDAR