BEGIN:VCALENDAR
VERSION:2.0
PRODID:-//wp-events-plugin.com//7.2.3.1//EN
TZID:Europe/Amsterdam
X-WR-TIMEZONE:Europe/Amsterdam
BEGIN:VEVENT
UID:1589@worldglaucomaweek.org
DTSTART;TZID=Europe/Amsterdam:20180315T110000
DTEND;TZID=Europe/Amsterdam:20180315T110000
DTSTAMP:20180218T125740Z
URL:https://www.worldglaucomaweek.org/activity/lecture-for-glaucoma-patien
 ts-6/
SUMMARY:Understanding Glaucoma: Lecture for Glaucoma Patients
DESCRIPTION:Understanding Glaucoma: Lecture for Glaucoma Patients
CATEGORIES:Public educational
LOCATION:Konyang University Hospital\, Konyang University Hospital\, Daejeo
 n\, South Korea
GEO:36.3065056;127.34257219999995
X-APPLE-STRUCTURED-LOCATION;VALUE=URI;X-ADDRESS=Konyang University Hospital
 \, Daejeon\, South Korea;X-APPLE-RADIUS=100;X-TITLE=Konyang University Hos
 pital:geo:36.3065056,127.34257219999995
END:VEVENT
BEGIN:VTIMEZONE
TZID:Europe/Amsterdam
X-LIC-LOCATION:Europe/Amsterdam
BEGIN:STANDARD
DTSTART:20171029T020000
TZOFFSETFROM:+0200
TZOFFSETTO:+0100
TZNAME:CET
END:STANDARD
END:VTIMEZONE
END:VCALENDAR