BEGIN:VCALENDAR
VERSION:2.0
PRODID:-//wp-events-plugin.com//7.2.3.1//EN
TZID:Europe/Amsterdam
X-WR-TIMEZONE:Europe/Amsterdam
BEGIN:VEVENT
UID:2402@worldglaucomaweek.org
DTSTART;TZID=Europe/Amsterdam:20190313T130000
DTEND;TZID=Europe/Amsterdam:20190313T150000
DTSTAMP:20190225T023608Z
URL:https://www.worldglaucomaweek.org/activity/lecture-for-glaucoma-patien
 ts-58/
SUMMARY:Lecture for Glaucoma Patients
DESCRIPTION:
CATEGORIES:Public educational
LOCATION:Jeju National University Hospital\, 5\, Aran 13-gil\, Jeju-si\, Je
 ju-do\, South Korea
GEO:33.4670429;126.54575590000002
X-APPLE-STRUCTURED-LOCATION;VALUE=URI;X-ADDRESS=5\, Aran 13-gil\, Jeju-si\,
  Jeju-do\, South Korea;X-APPLE-RADIUS=100;X-TITLE=Jeju National University
  Hospital:geo:33.4670429,126.54575590000002
END:VEVENT
BEGIN:VTIMEZONE
TZID:Europe/Amsterdam
X-LIC-LOCATION:Europe/Amsterdam
BEGIN:STANDARD
DTSTART:20181028T020000
TZOFFSETFROM:+0200
TZOFFSETTO:+0100
TZNAME:CET
END:STANDARD
END:VTIMEZONE
END:VCALENDAR