BEGIN:VCALENDAR
VERSION:2.0
PRODID:-//wp-events-plugin.com//7.2.3.1//EN
TZID:Europe/Amsterdam
X-WR-TIMEZONE:Europe/Amsterdam
BEGIN:VEVENT
UID:2401@worldglaucomaweek.org
DTSTART;TZID=Europe/Amsterdam:20190312T103000
DTEND;TZID=Europe/Amsterdam:20190312T123000
DTSTAMP:20190225T023403Z
URL:https://www.worldglaucomaweek.org/activity/lecture-for-glaucoma-patien
 ts-57/
SUMMARY:Lecture for Glaucoma Patients
DESCRIPTION:
CATEGORIES:Public educational
LOCATION:Chonbuk National University Hospital\, 20\, Geonjiro Deokjin-gu\, 
 Jeonju-si\, Jeollabuk-do\, South Korea
GEO:35.8471872;127.14058939999995
X-APPLE-STRUCTURED-LOCATION;VALUE=URI;X-ADDRESS=20\, Geonjiro Deokjin-gu\, 
 Jeonju-si\, Jeollabuk-do\, South Korea;X-APPLE-RADIUS=100;X-TITLE=Chonbuk 
 National University Hospital:geo:35.8471872,127.14058939999995
END:VEVENT
BEGIN:VTIMEZONE
TZID:Europe/Amsterdam
X-LIC-LOCATION:Europe/Amsterdam
BEGIN:STANDARD
DTSTART:20181028T020000
TZOFFSETFROM:+0200
TZOFFSETTO:+0100
TZNAME:CET
END:STANDARD
END:VTIMEZONE
END:VCALENDAR